BEGIN:VCALENDAR
VERSION:2.0
PRODID:-//AACIS - ECPv6.15.20//NONSGML v1.0//EN
CALSCALE:GREGORIAN
METHOD:PUBLISH
X-ORIGINAL-URL:https://www.aacis.us
X-WR-CALDESC:Events for AACIS
REFRESH-INTERVAL;VALUE=DURATION:PT1H
X-Robots-Tag:noindex
X-PUBLISHED-TTL:PT1H
BEGIN:VTIMEZONE
TZID:UTC
BEGIN:STANDARD
TZOFFSETFROM:+0000
TZOFFSETTO:+0000
TZNAME:UTC
DTSTART:20200101T000000
END:STANDARD
END:VTIMEZONE
BEGIN:VEVENT
DTSTART;TZID=UTC:20230327T080000
DTEND;TZID=UTC:20230330T170000
DTSTAMP:20260420T162350
CREATED:20221224T120445Z
LAST-MODIFIED:20230305T152438Z
UID:2550-1679904000-1680195600@www.aacis.us
SUMMARY:FL ACO Certification - Tampa\, FL
DESCRIPTION:The AACIS Florida Animal Control Officer Certification Course is an instructor-led course designed for students who are interested in obtaining a Florida animal control officer certification as prescribed under Florida Statute 828.27(4)(a)(1). \nRegistrants will participate in open discussions and participate in classroom activities on topics including\, but not limited to animal control officer ethics & professionalism\, investigative report writing\, constitutional law\, Florida animal laws\, courtroom preparation and presentation\, field operations\, animal knowledge\, rabies awareness and prevention\, animal cruelty investigations\, and fundamental concepts of animal sheltering. \nCompletion Standards\nCompletion of this course requires that all registrants attend the entire course\, participate in all discussions and hands-on training exercises\, pass a written examination with a score of 80% or higher. \nCertifications Provided\nRegistrants that successfully pass this course will receive a certification from the American Animal Cruelty Investigations School with the designation as a certified Florida Animal Control Officer. \nTuition Fees\nThe registration fee for this course is $550.00
URL:https://www.aacis.us/event/230327/
LOCATION:Hillsborough County Code Enforcement\, 3629 Queen Palm Drive\, Tampa\, FL\, 33619\, United States
CATEGORIES:ACO Certification
ATTACH;FMTTYPE=image/jpeg:https://www.aacis.us/wp-content/uploads/2022/12/Course-Icon-ACO-1.jpg
ORGANIZER;CN="AACIS":MAILTO:info@aacis.us
END:VEVENT
BEGIN:VEVENT
DTSTART;TZID=UTC:20220131T080000
DTEND;TZID=UTC:20220203T170000
DTSTAMP:20260420T162350
CREATED:20220130T024107Z
LAST-MODIFIED:20220130T024107Z
UID:2239-1643616000-1643907600@www.aacis.us
SUMMARY:ACO Certification - Panama City\, FL
DESCRIPTION:
URL:https://www.aacis.us/event/aco-certification-panama-city-fl/
LOCATION:Gulf Coast State College\, 637 Hwy 2300\, Panama City\, Florida\, 32409\, United States
END:VEVENT
BEGIN:VEVENT
DTSTART;TZID=UTC:20211210T080000
DTEND;TZID=UTC:20211211T170000
DTSTAMP:20260420T162350
CREATED:20210807T080535Z
LAST-MODIFIED:20210807T080609Z
UID:2100-1639123200-1639242000@www.aacis.us
SUMMARY:Dangerous Dog Investigator Certification
DESCRIPTION:Dangerous Dog Investigator Certification\nCullman\, AL\nCourse Description\nThe AACIS Chemical Immobilization Certification Course is an instructor-led course designed for law enforcement and animal care and control professionals whose duties may require the use of anesthetizing chemicals to immobilize an animal for the purpose of capturing it. \nRegistrants will participate in open discussions and demonstrate proficiency in animal knowledge\, pharmacology\, dosage calculations\, decision-making\, handling post-capture emergencies\, equipment handling\, and proper documentation of a chemical immobilization operation. Additionally\, students must demonstrate marksmanship\, projector safety\, and qualify on the range with a projector. \nCompletion Standards\nCompletion of this course requires that all registrants attend the entire course\, participate in all discussions and hands-on training exercises\, pass a written examination with a score of 75% or higher\, and pass the practical assessment test in the areas of drug calculations\, marksmanship\, scene assessment\, and drug handling. \nCertifications Provided\nRegistrants that successfully pass this course will receive a certification from the American Animal Cruelty Investigations School with the designation as a certified Chemical Immobilization Technician. \nTuition Fees\nThe early registration fee for this course is $350.00; the general registration fee is $400.00; the late registration fee for this course is $450.00 (see the course information PDF for deadline dates). \nCourse Information PDF\n 
URL:https://www.aacis.us/event/211209/
LOCATION:Cullman County Emergency Management\, 2020 Beech Avenue SE\, Cullman\, AL\, 35055\, United States
CATEGORIES:Dangerous Dog Investigator
ATTACH;FMTTYPE=image/jpeg:https://www.aacis.us/wp-content/uploads/2021/06/CCI16.jpg
ORGANIZER;CN="AACIS":MAILTO:info@aacis.us
END:VEVENT
BEGIN:VEVENT
DTSTART;VALUE=DATE:20211112
DTEND;VALUE=DATE:20211114
DTSTAMP:20260420T162350
CREATED:20210807T001412Z
LAST-MODIFIED:20210807T001432Z
UID:2073-1636675200-1636847999@www.aacis.us
SUMMARY:2021 National Training Conference
DESCRIPTION:
URL:https://www.aacis.us/event/211112/
LOCATION:Florida Hotel and Conference Center\, 1500 Sand Lake Drive\, Orlando\, Florida\, 32809
CATEGORIES:Training Conference
ATTACH;FMTTYPE=image/jpeg:https://www.aacis.us/wp-content/uploads/2021/07/Conference-Pic-2.jpg
ORGANIZER;CN="AACIS":MAILTO:info@aacis.us
END:VEVENT
BEGIN:VEVENT
DTSTART;VALUE=DATE:20211012
DTEND;VALUE=DATE:20211016
DTSTAMP:20260420T162350
CREATED:20210806T233723Z
LAST-MODIFIED:20210807T072919Z
UID:2057-1633996800-1634342399@www.aacis.us
SUMMARY:Canine & Feline Investigator / AL ACO Module B
DESCRIPTION:Canine & Feline Investigator / Alabama ACO Module B\nBirmingham\, Alabama\nCourse Description\nThe Alabama Basic Animal Control Certification – Module B is an instructor-led course designed for law enforcement and animal care and control personnel who are responsible for performing the animal care and control function as required by Alabama law.  This is the second part of a two-part certification course for Alabama animal control officers. This course also qualifies as a stand-alone animal cruelty investigator certification. \nThis course includes block training in dangerous dog investigations\, hoarding investigations\, dogfighting investigations\, neglect and intentional cruelty investigations\, legal environment\, crime scene processing\, and zoonotic diseases. \nCompletion Standards\nStudents must attend all lectures\, participate in all hands-on activities and scenario-based training\, and pass written examination with a score of 75% or higher. \nCertifications Provided\nRegistrants that successfully pass this course will receive a certification from the American Animal Cruelty Investigations School with the designation as an Canine/Feline Animal Cruelty Investigator as well as Animal Control Officer – Module B for the state of Alabama.  A third certification is included in this class for conducting Investigative Body Condition Score Assessments for canine and feline animals. Once both module A and B have been completed\, officers will receive a full certification as an Animal Control Officer – State of Alabama.
URL:https://www.aacis.us/event/211012/
LOCATION:Greater Birmingham Humane Society\, 300 Snow Drive\, Birmingham\, Alabama\, 35209
CATEGORIES:Canine & Feline Investigations
ATTACH;FMTTYPE=image/jpeg:https://www.aacis.us/wp-content/uploads/2021/01/DogsCats-1.jpg
ORGANIZER;CN="AACIS":MAILTO:info@aacis.us
END:VEVENT
BEGIN:VEVENT
DTSTART;TZID=UTC:20210927T080000
DTEND;TZID=UTC:20210929T170000
DTSTAMP:20260420T162350
CREATED:20210806T234556Z
LAST-MODIFIED:20210806T235438Z
UID:2064-1632729600-1632934800@www.aacis.us
SUMMARY:Shelter Tech Certification
DESCRIPTION:
URL:https://www.aacis.us/event/210927/
LOCATION:Sumter County Animal Services\, 819 County Road 529\, Lake Panasoffkee\, Florida\, 33585
ATTACH;FMTTYPE=image/jpeg:https://www.aacis.us/wp-content/uploads/2020/12/Animals.jpg
ORGANIZER;CN="AACIS":MAILTO:info@aacis.us
END:VEVENT
BEGIN:VEVENT
DTSTART;VALUE=DATE:20210913
DTEND;VALUE=DATE:20210917
DTSTAMP:20260420T162350
CREATED:20210806T234426Z
LAST-MODIFIED:20210807T073822Z
UID:2061-1631491200-1631836799@www.aacis.us
SUMMARY:Canine & Feline Investigator / AR ACO Module B
DESCRIPTION:Canine & Feline Investigator / Arkansas ACO Module B\nLittle Rock\, Arkansas\nCourse Description\nThe Arkansas Basic Animal Control Certification – Module B is an instructor-led course designed for law enforcement and animal care and control personnel who are responsible for performing the animal care and control function as required by Arkansas law.  This is the second part of a two-part certification course for Arkansas animal control officers. This course also qualifies as a stand-alone animal cruelty investigator certification. \nThis course includes block training in dangerous dog investigations\, hoarding investigations\, dogfighting investigations\, neglect and intentional cruelty investigations\, legal environment\, crime scene processing\, and zoonotic diseases. \nCompletion Standards\nStudents must attend all lectures\, participate in all hands-on activities and scenario-based training\, and pass written examination with a score of 75% or higher. \nCertifications Provided\nRegistrants that successfully pass this course will receive a certification from the American Animal Cruelty Investigations School with the designation as an Canine/Feline Animal Cruelty Investigator as well as Animal Control Officer – Module B for the state of Arkansas.  A third certification is included in this class for conducting Investigative Body Condition Score Assessments for canine and feline animals. Once both module A and B have been completed\, officers will receive a full certification as an Animal Control Officer – State of Arkansas.
URL:https://www.aacis.us/event/210913/
LOCATION:Pulaski County Sheriff’s Office\, 2900 South Woodrow Street\, Little Rock\, AR\, 72204\, United States
ATTACH;FMTTYPE=image/jpeg:https://www.aacis.us/wp-content/uploads/2021/06/Banner-ACO.jpg
ORGANIZER;CN="AACIS":MAILTO:info@aacis.us
END:VEVENT
BEGIN:VEVENT
DTSTART;VALUE=DATE:20210909
DTEND;VALUE=DATE:20210911
DTSTAMP:20260420T162350
CREATED:20210806T221805Z
LAST-MODIFIED:20210807T080124Z
UID:2043-1631145600-1631318399@www.aacis.us
SUMMARY:Chemical Immobilization Certification
DESCRIPTION:Chemical Immobilization Certification\nPanama City\, FL\nCourse Description\nThe AACIS Chemical Immobilization Certification Course is an instructor-led course designed for law enforcement and animal care and control professionals whose duties may require the use of anesthetizing chemicals to immobilize an animal for the purpose of capturing it. \nRegistrants will participate in open discussions and demonstrate proficiency in animal knowledge\, pharmacology\, dosage calculations\, decision-making\, handling post-capture emergencies\, equipment handling\, and proper documentation of a chemical immobilization operation. Additionally\, students must demonstrate marksmanship\, projector safety\, and qualify on the range with a projector. \nCompletion Standards\nCompletion of this course requires that all registrants attend the entire course\, participate in all discussions and hands-on training exercises\, pass a written examination with a score of 75% or higher\, and pass the practical assessment test in the areas of drug calculations\, marksmanship\, scene assessment\, and drug handling. \nCertifications Provided\nRegistrants that successfully pass this course will receive a certification from the American Animal Cruelty Investigations School with the designation as a certified Chemical Immobilization Technician. \nTuition Fees\nThe early registration fee for this course is $350.00; the general registration fee is $400.00; the late registration fee for this course is $450.00 (see the course information PDF for deadline dates). \nCourse Information PDF
URL:https://www.aacis.us/event/210909/
LOCATION:Bay County Animal Services\, 6401 Bay Line Drive\, Panama City\, 32404
CATEGORIES:Chemical Immobilization,Field Operations
ATTACH;FMTTYPE=image/jpeg:https://www.aacis.us/wp-content/uploads/2021/06/CCI16.jpg
ORGANIZER;CN="AACIS":MAILTO:info@aacis.us
END:VEVENT
BEGIN:VEVENT
DTSTART;VALUE=DATE:20210907
DTEND;VALUE=DATE:20210909
DTSTAMP:20260420T162350
CREATED:20210806T220206Z
LAST-MODIFIED:20210812T221226Z
UID:2023-1630972800-1631145599@www.aacis.us
SUMMARY:Chemical Immobilization Certification
DESCRIPTION:The AACIS Chemical Immobilization Certification Course is a 16-hour instructor-led course designed for law enforcement and animal care and control professionals whose duties may require the use of anesthetizing chemicals to immobilize an animal for the purpose of capturing it.   \nRegistrants will participate in open discussions and demonstrate proficiency in animal knowledge\, pharmacology\, dosage calculations\, decision-making\, handling post-capture emergencies\, equipment handling\, and proper documentation of a chemical immobilization operation. Additionally\, students must demonstrate marksmanship\, projector safety\, and qualify on the range with a projector. \nCompletion Standards\nCompletion of this course requires that all registrants attend the entire course\, participate in all discussions and hands-on training exercises\, pass a written examination with a score of 75% or higher\, and pass the practical assessment test in the areas of drug calculations\, marksmanship\, scene assessment\, and drug handling. \nCertifications Provided\nRegistrants that successfully pass this course will receive a certification from the American Animal Cruelty Investigations School with the designation as a certified Chemical Immobilization Technician. \nTuition Fees\nThe early registration fee for this course is $350.00; the general registration fee is $400.00; the late registration fee for this course is $450.00 (see the course information PDF for deadline dates). \nCourse Information PDF
URL:https://www.aacis.us/event/210707/
LOCATION:Daytona Beach Police Department\, 129 Valor Way\, Daytona Beach\, 32114\, United States
CATEGORIES:Chemical Immobilization,Field Operations
ATTACH;FMTTYPE=image/jpeg:https://www.aacis.us/wp-content/uploads/2021/06/CCI16.jpg
ORGANIZER;CN="AACIS":MAILTO:info@aacis.us
END:VEVENT
BEGIN:VEVENT
DTSTART;TZID=UTC:20210823T080000
DTEND;TZID=UTC:20210825T170000
DTSTAMP:20260420T162350
CREATED:20210806T233842Z
LAST-MODIFIED:20210806T233847Z
UID:2059-1629705600-1629910800@www.aacis.us
SUMMARY:Advanced ACO Certification
DESCRIPTION:
URL:https://www.aacis.us/event/210823/
LOCATION:Sumter County Animal Services\, 819 County Road 529\, Lake Panasoffkee\, Florida\, 33585
ORGANIZER;CN="AACIS":MAILTO:info@aacis.us
END:VEVENT
END:VCALENDAR