BEGIN:VCALENDAR
VERSION:2.0
PRODID:-//AACIS - ECPv6.15.20//NONSGML v1.0//EN
CALSCALE:GREGORIAN
METHOD:PUBLISH
X-ORIGINAL-URL:https://www.aacis.us
X-WR-CALDESC:Events for AACIS
REFRESH-INTERVAL;VALUE=DURATION:PT1H
X-Robots-Tag:noindex
X-PUBLISHED-TTL:PT1H
BEGIN:VTIMEZONE
TZID:UTC
BEGIN:STANDARD
TZOFFSETFROM:+0000
TZOFFSETTO:+0000
TZNAME:UTC
DTSTART:20200101T000000
END:STANDARD
END:VTIMEZONE
BEGIN:VEVENT
DTSTART;VALUE=DATE:20211112
DTEND;VALUE=DATE:20211114
DTSTAMP:20260420T211922
CREATED:20210807T001412Z
LAST-MODIFIED:20210807T001432Z
UID:2073-1636675200-1636847999@www.aacis.us
SUMMARY:2021 National Training Conference
DESCRIPTION:
URL:https://www.aacis.us/event/211112/
LOCATION:Florida Hotel and Conference Center\, 1500 Sand Lake Drive\, Orlando\, Florida\, 32809
CATEGORIES:Training Conference
ATTACH;FMTTYPE=image/jpeg:https://www.aacis.us/wp-content/uploads/2021/07/Conference-Pic-2.jpg
ORGANIZER;CN="AACIS":MAILTO:info@aacis.us
END:VEVENT
END:VCALENDAR