BEGIN:VCALENDAR
VERSION:2.0
PRODID:-//AACIS - ECPv6.15.20//NONSGML v1.0//EN
CALSCALE:GREGORIAN
METHOD:PUBLISH
X-ORIGINAL-URL:https://www.aacis.us
X-WR-CALDESC:Events for AACIS
REFRESH-INTERVAL;VALUE=DURATION:PT1H
X-Robots-Tag:noindex
X-PUBLISHED-TTL:PT1H
BEGIN:VTIMEZONE
TZID:UTC
BEGIN:STANDARD
TZOFFSETFROM:+0000
TZOFFSETTO:+0000
TZNAME:UTC
DTSTART:20220101T000000
END:STANDARD
END:VTIMEZONE
BEGIN:VEVENT
DTSTART;VALUE=DATE:20230522
DTEND;VALUE=DATE:20230526
DTSTAMP:20260420T202032
CREATED:20210807T000339Z
LAST-MODIFIED:20230305T144801Z
UID:2069-1684713600-1685059199@www.aacis.us
SUMMARY:Equine Investigator Certification - Smithfield\, RI
DESCRIPTION:The AACIS Professional Animal Cruelty Investigator: Equine Investigations certification course is an instructor-led course designed for students who job duties include investigating crimes and equine animals (horses\, donkeys\, mules\, zebroids\, etc.) \nRegistrants will participate in open discussions and participate in classroom activities on topics including\, but not limited to equine breed and color identification\, podiatry\, dental\, gastrointestinal function\, equine nutrition\, the starvation process\, environmental assessments\, animal welfare assessments\, and body condition scoring. \nCompletion Standards\nCompletion of this course requires that all registrants attend the entire course\, participate in all discussions and hands-on training exercises\, pass a written examination with a score of 80% or higher. \nCertifications Provided\nRegistrants that successfully pass this course will receive a certification from the American Animal Cruelty Investigations School with the designation as an animal cruelty investigator for equine animals. \nTuition Fees\nThe early registration fee for this course is $600.00\, the general registration fee is $650.00\, and the later registration fee is $700.00.
URL:https://www.aacis.us/event/230522/
LOCATION:Smithfield Police Department\, 215 Pleasant View Avenue\, Smithfield\, 02917
CATEGORIES:Equine Investigations
ATTACH;FMTTYPE=image/jpeg:https://www.aacis.us/wp-content/uploads/2021/08/Course-Icon-PACI-2-copy.jpg
ORGANIZER;CN="AACIS":MAILTO:info@aacis.us
END:VEVENT
END:VCALENDAR