BEGIN:VCALENDAR
VERSION:2.0
PRODID:-//AACIS - ECPv6.15.20//NONSGML v1.0//EN
CALSCALE:GREGORIAN
METHOD:PUBLISH
X-WR-CALNAME:AACIS
X-ORIGINAL-URL:https://www.aacis.us
X-WR-CALDESC:Events for AACIS
REFRESH-INTERVAL;VALUE=DURATION:PT1H
X-Robots-Tag:noindex
X-PUBLISHED-TTL:PT1H
BEGIN:VTIMEZONE
TZID:UTC
BEGIN:STANDARD
TZOFFSETFROM:+0000
TZOFFSETTO:+0000
TZNAME:UTC
DTSTART:20200101T000000
END:STANDARD
END:VTIMEZONE
BEGIN:VEVENT
DTSTART;VALUE=DATE:20211012
DTEND;VALUE=DATE:20211016
DTSTAMP:20260420T213718
CREATED:20210806T233723Z
LAST-MODIFIED:20210807T072919Z
UID:2057-1633996800-1634342399@www.aacis.us
SUMMARY:Canine & Feline Investigator / AL ACO Module B
DESCRIPTION:Canine & Feline Investigator / Alabama ACO Module B\nBirmingham\, Alabama\nCourse Description\nThe Alabama Basic Animal Control Certification – Module B is an instructor-led course designed for law enforcement and animal care and control personnel who are responsible for performing the animal care and control function as required by Alabama law.  This is the second part of a two-part certification course for Alabama animal control officers. This course also qualifies as a stand-alone animal cruelty investigator certification. \nThis course includes block training in dangerous dog investigations\, hoarding investigations\, dogfighting investigations\, neglect and intentional cruelty investigations\, legal environment\, crime scene processing\, and zoonotic diseases. \nCompletion Standards\nStudents must attend all lectures\, participate in all hands-on activities and scenario-based training\, and pass written examination with a score of 75% or higher. \nCertifications Provided\nRegistrants that successfully pass this course will receive a certification from the American Animal Cruelty Investigations School with the designation as an Canine/Feline Animal Cruelty Investigator as well as Animal Control Officer – Module B for the state of Alabama.  A third certification is included in this class for conducting Investigative Body Condition Score Assessments for canine and feline animals. Once both module A and B have been completed\, officers will receive a full certification as an Animal Control Officer – State of Alabama.
URL:https://www.aacis.us/event/211012/
LOCATION:Greater Birmingham Humane Society\, 300 Snow Drive\, Birmingham\, Alabama\, 35209
CATEGORIES:Canine & Feline Investigations
ATTACH;FMTTYPE=image/jpeg:https://www.aacis.us/wp-content/uploads/2021/01/DogsCats-1.jpg
ORGANIZER;CN="AACIS":MAILTO:info@aacis.us
END:VEVENT
END:VCALENDAR